BEGIN:VCALENDAR
VERSION:1.0
BEGIN:VEVENT
URL:http://kvpac.org
ORGANIZER:MAILTO:lconnolly@kvpac.org
DTSTART:20091006T000000Z
DTEND:20091006T020000Z
SUMMARY:Sr. COMPANY Production Begins
DESCRIPTION:NIGHTMARE BEFORE CHRISTMAS, Directed by Tamara Grisko & Tira Burford.Rehearsals are on Mondays & Wednesday from 6:00pm-8:00pm beginning October 5th.
END:VEVENT
END:VCALENDAR
