BEGIN:VCALENDAR
VERSION:1.0
BEGIN:VEVENT
URL:http://kvpac.org
ORGANIZER:MAILTO:lconnolly@kvpac.org
DTSTART:20091026T010000Z
DTEND:20091026T033000Z
SUMMARY:KVPAC&acute;s Encore Players Spend An Evening With Stephen Sondheim
DESCRIPTION:KVPAC's Encore Players will be the Prelude Performance at the Houston Society for the Performing Arts presentation of An Evening with Stephen Sondheim (An onstage conversation with host, Frank Rich) 
END:VEVENT
END:VCALENDAR
