BEGIN:VCALENDAR
VERSION:1.0
BEGIN:VEVENT
URL:http://kvpac.org
ORGANIZER:MAILTO:lconnolly@kvpac.org
DTSTART:20091017T020000Z
DTEND:20091017T040000Z
SUMMARY:KVPAC&acute;s Encore Players presents Into The Woods
DESCRIPTION:Music and lyrics by Stephen Sondheim, Book by James LapineDirected by Jill Manser
END:VEVENT
END:VCALENDAR
