BEGIN:VCALENDAR
VERSION:1.0
BEGIN:VEVENT
URL:http://kvpac.org
ORGANIZER:MAILTO:lconnolly@kvpac.org
DTSTART:20091030T010000Z
DTEND:20091030T020000Z
SUMMARY:Manga & Anime Cartooning
DESCRIPTION:Manga & Anime Cartooning, Ages: 10+
END:VEVENT
END:VCALENDAR
