BEGIN:VCALENDAR
VERSION:1.0
BEGIN:VEVENT
URL:http://kvpac.org
ORGANIZER:MAILTO:lconnolly@kvpac.org
DTSTART:20091024T160000Z
DTEND:20091024T180000Z
SUMMARY:Family Art Workshop: Playdate with Picasso
DESCRIPTION:Each family makes a Picasso-inspired artwork.
END:VEVENT
END:VCALENDAR
