BEGIN:VCALENDAR
VERSION:1.0
BEGIN:VEVENT
URL:http://kvpac.org
ORGANIZER:MAILTO:lconnolly@kvpac.org
DTSTART:20091031T150000Z
DTEND:20091031T180000Z
SUMMARY:KVPAC Princesses Walk for Breast Cancer Awareness
DESCRIPTION:Celebrate Your Princess Breast Cancer Awareness Walk and Pink Pamper Party with CHRISTUS St. Catherine Hospital
END:VEVENT
END:VCALENDAR
