BEGIN:VCALENDAR
VERSION:1.0
BEGIN:VEVENT
URL:http://kvpac.org
ORGANIZER:MAILTO:lconnolly@kvpac.org
DTSTART:20091003T160000Z
DTEND:20091003T180000Z
SUMMARY:Family Art Workshop: Pastel Parade
DESCRIPTION:Walk on the wild side - each person creates their own lion pastel painting
END:VEVENT
END:VCALENDAR
