BEGIN:VCALENDAR
VERSION:1.0
BEGIN:VEVENT
URL:http://kvpac.org
ORGANIZER:MAILTO:lconnolly@kvpac.org
DTSTART:20091003T060000Z
DTEND:20091004T055900Z
SUMMARY:KATY RICE HARVEST FESTIVAL
DESCRIPTION:Come see the cast of KVPAC Encore Players Into The Woods at the 2009 KATY RICE HARVEST FESTIVAL PARADE 
END:VEVENT
END:VCALENDAR
