BEGIN:VCALENDAR
VERSION:1.0
BEGIN:VEVENT
URL:http://kvpac.org
ORGANIZER:MAILTO:lconnolly@kvpac.org
DTSTART:20091010T060000Z
DTEND:20091011T055900Z
SUMMARY:SAVE THE DATE: KVPAC&acute;s Books Alive! Festival
DESCRIPTION:ONE WEEK FROM TODAY!!On Saturday October 17, 2009, 11:00 AM - 1:00 PM
END:VEVENT
END:VCALENDAR
