BEGIN:VCALENDAR
VERSION:1.0
BEGIN:VEVENT
URL:http://kvpac.org
ORGANIZER:MAILTO:lconnolly@kvpac.org
DTSTART:20091003T060000Z
DTEND:20091004T055900Z
SUMMARY:SAVE THE DATE: Artists@Work Show & Sale
DESCRIPTION:ONE WEEK FROM TODAY!!On Saturday October 10, 2009, 7:00 PM - 9:00 PMArtists@Work Show & Sale featuring the work of Allan Philiba, internationally known and award winning photographer and artist, will launch with a reception on Saturday, October 10, 2009 at 7:00-9:00pm at KVPAC, Building 2. Click here for full article.The public is invited to attend - show runs through November 11, 2009. 
END:VEVENT
END:VCALENDAR
