BEGIN:VCALENDAR
VERSION:1.0
BEGIN:VEVENT
URL:http://kvpac.org
ORGANIZER:MAILTO:lconnolly@kvpac.org
DTSTART:20091017T170000Z
DTEND:20091017T190000Z
SUMMARY:KVPAC&acute;s Books Alive! Festival
DESCRIPTION:A Mouse Comes to Katy
END:VEVENT
END:VCALENDAR
