BEGIN:VCALENDAR
VERSION:1.0
BEGIN:VEVENT
URL:http://kvpac.org
ORGANIZER:MAILTO:lconnolly@kvpac.org
DTSTART:20091011T010000Z
DTEND:20091011T030000Z
SUMMARY:Artists@Work Show & Sale
DESCRIPTION:Artists@Work Show & Sale featuring the work of Allan Philiba.
END:VEVENT
END:VCALENDAR
